BEGIN:VCALENDAR
VERSION:2.0
PRODID:-//Elke Torfs juwelen - ECPv6.15.20//NONSGML v1.0//EN
CALSCALE:GREGORIAN
METHOD:PUBLISH
X-WR-CALNAME:Elke Torfs juwelen
X-ORIGINAL-URL:https://www.elketorfs.be
X-WR-CALDESC:Evenementen voor Elke Torfs juwelen
REFRESH-INTERVAL;VALUE=DURATION:PT1H
X-Robots-Tag:noindex
X-PUBLISHED-TTL:PT1H
BEGIN:VTIMEZONE
TZID:Europe/Brussels
BEGIN:DAYLIGHT
TZOFFSETFROM:+0100
TZOFFSETTO:+0200
TZNAME:CEST
DTSTART:20220327T010000
END:DAYLIGHT
BEGIN:STANDARD
TZOFFSETFROM:+0200
TZOFFSETTO:+0100
TZNAME:CET
DTSTART:20221030T010000
END:STANDARD
BEGIN:DAYLIGHT
TZOFFSETFROM:+0100
TZOFFSETTO:+0200
TZNAME:CEST
DTSTART:20230326T010000
END:DAYLIGHT
BEGIN:STANDARD
TZOFFSETFROM:+0200
TZOFFSETTO:+0100
TZNAME:CET
DTSTART:20231029T010000
END:STANDARD
BEGIN:DAYLIGHT
TZOFFSETFROM:+0100
TZOFFSETTO:+0200
TZNAME:CEST
DTSTART:20240331T010000
END:DAYLIGHT
BEGIN:STANDARD
TZOFFSETFROM:+0200
TZOFFSETTO:+0100
TZNAME:CET
DTSTART:20241027T010000
END:STANDARD
BEGIN:DAYLIGHT
TZOFFSETFROM:+0100
TZOFFSETTO:+0200
TZNAME:CEST
DTSTART:20250330T010000
END:DAYLIGHT
BEGIN:STANDARD
TZOFFSETFROM:+0200
TZOFFSETTO:+0100
TZNAME:CET
DTSTART:20251026T010000
END:STANDARD
END:VTIMEZONE
BEGIN:VEVENT
DTSTART;TZID=Europe/Brussels:20240911T080000
DTEND;TZID=Europe/Brussels:20240929T170000
DTSTAMP:20260419T062255
CREATED:20240712T121431Z
LAST-MODIFIED:20240712T121435Z
UID:10000071-1726041600-1727629200@www.elketorfs.be
SUMMARY:open atelier in verbinding september 2024
DESCRIPTION:Wij zetten de deuren van ons idyllische plekje na een succesvolle eerste editie in 2023 weer wagenwijd open. \n\n\n\nGedurende de drie laatste weken van september zal ons atelier haar deuren openen voor iedereen die nieuwsgierig is naar onze unieke collectie van juwelen met edelstenen. Kom langs om deze prachtige stukken te bewonderen en ontdek de kracht en schoonheid van edelstenen. \n\n\n\nMaar dat is niet alles! Tijdens deze open dagen bieden we een breed scala aan inspirerende workshops en bijeenkomsten aan. Deze evenementen zijn ontworpen om je te verbinden met jezelf\, anderen en de wereld om je heen. Klik door naar de event pagina voor meer details en het programma:
URL:https://www.elketorfs.be/event/open-atelier-in-verbinding-september-2024/
LOCATION:Atelier Elke Torfs driftwood & jewelry\, Vorstheide 22 L\, Herselt\, antwerpen\, 2230\, België
CATEGORIES:open atelier
ATTACH;FMTTYPE=image/jpeg:https://www.elketorfs.be/wp-content/uploads/2024/07/flyer-open-atelier-2024-A5.jpg
ORGANIZER;CN="Elke Torfs driftwood & jewelry":MAILTO:Info@elketorfs.be
END:VEVENT
BEGIN:VEVENT
DTSTART;TZID=Europe/Brussels:20240326T150000
DTEND;TZID=Europe/Brussels:20240425T170000
DTSTAMP:20260419T062255
CREATED:20240402T123936Z
LAST-MODIFIED:20240402T125556Z
UID:10000061-1711465200-1714064400@www.elketorfs.be
SUMMARY:Lentecollectie 2024 Open Atelier Elke Torfs juwelen in herselt
DESCRIPTION:Van 26 maart tot en met 25 april kan je onze nieuwe lentecollectie komen bekijken in mijn Open Atelier te Herselt.\n\n\n\nWe hebben weer een hele nieuwe collectie van juwelen met edelstenen klaar liggen om te bezichtigen tijdens onze open atelier.Oorbellen\, hangers\, ringen\, armbanden\, halskettingen\, ruwe en gepolijste edelstenen\, windgongs\, en nog zoveel meer….. \n\n\n\nOntdek de magie van de edelstenen\, een geschenk van moeder natuur die ik met veel liefde voor jullie selecteer en ontwerp.Kom langs en ontvang 20% korting op de ganse collectie. \n\n\n\nWanneer:26/03 tot 25/04 van 15u tot 17uVerder ben ik de hele dag thuis om jullie te ontvangen.Maar stuur effe een berichtje voor je komt zodat we niet juist aan het eten of naar de winkel zijn Whatsapp: 0479847825Messenger: https://www.facebook.com/Elketorfsjewelry/ \n\n\n\nWaar:Vorstheide 22 L in Herselt \n\n\n\nGebruik best Waze om naar ons boshuisje te komen\, daar tik je Elke Torfs jewelry in en hij brengt je tot vlak aan mijn atelier. \n\n\n\nMoest je een ander gps systeem gebruiken kom je bij nr 22 terecht\, deze ligt in een ander straatje dan wij. Best even bellen 0479/847825 en ik loods je met plezier tot aan mijn atelier. \n\n\n\nwww.elketorfs.be \n\n\n\nTot snelLiefs Elke & Kor
URL:https://www.elketorfs.be/event/lentecollectie-open-atelier/
LOCATION:Atelier Elke Torfs driftwood & jewelry\, Vorstheide 22 L\, Herselt\, antwerpen\, 2230\, België
CATEGORIES:open atelier
ATTACH;FMTTYPE=image/jpeg:https://www.elketorfs.be/wp-content/uploads/2024/04/lentecollectie-open-atelier.jpeg
ORGANIZER;CN="Elke Torfs driftwood & jewelry":MAILTO:Info@elketorfs.be
END:VEVENT
BEGIN:VEVENT
DTSTART;TZID=Europe/Brussels:20240121T100000
DTEND;TZID=Europe/Brussels:20240121T200000
DTSTAMP:20260419T062255
CREATED:20240110T162501Z
LAST-MODIFIED:20240110T162509Z
UID:10000059-1705831200-1705867200@www.elketorfs.be
SUMMARY:Solden tot -70% !!!!
DESCRIPTION:winter solden elke torfs juwelen 20 en 21 januari 2024\n\n\n\nNa bijna twee jaar van onvergetelijke momenten op verschillende evenementen\, is het tijd om een deel van onze magische schatten uit te dunnen om plaats te maken voor de nieuwe zomercollectie. \n\n\n\nOntdek verschillende juwelen & accessoires collecties in hout\, zilver\, been brons\, verguld zilver\, enz….. waarvan de laatste stuks aan maar liefst 70% korting de deur uit mogen. \n\n\n\nMaar dat is niet alles! Bezoekers kunnen ook genieten van een exclusieve korting van 20% op onze nieuwste collecties. \n\n\n\nDat is nog steeds niet alles!Als extra verrassing krijgt elke bezoeker een klein energetisch geschenk\, terwijl thee en koekjes je innerlijke kracht geven. \n\n\n\nWanneer:zaterdag 20 januari 10 – 20 uurZondag 21 januari 10 – 20 uur \n\n\n\nWaar:Onze betoverende plek is te vinden via Waze\, door “Elke Torfs juwelen” in Herselt in te tikken. Volg de bosweg tot op het einde en sla dan linksaf. We hebben ook wegwijzers geplaatst op de knooppunten zodat je ons bosplekje gemakkelijk kunt vinden. \n\n\n\nVorstheide 22 L 2230 Herselt0479/847825 \n\n\n\n!!! Let op enkel de waze gps app geeft de weg naar ons 100% juist !!! dus kijk even via deze link voor de juiste route als u voor het eerst ons bezoekt. \n\n\n\n \n\n\n\nWij accepteren cash\, bankcontact en mobiel betalen… dus als je iets leuks ziet\, niets kan je tegenhouden!Liefs Elke & Kor
URL:https://www.elketorfs.be/event/solden-tot-70/2024-01-21/
LOCATION:Atelier Elke Torfs driftwood & jewelry\, Vorstheide 22 L\, Herselt\, antwerpen\, 2230\, België
CATEGORIES:open atelier
ATTACH;FMTTYPE=image/jpeg:https://www.elketorfs.be/wp-content/uploads/2024/01/winter-solden-elke-torfs-juwelen-20-en-21-januari-2024.jpg
ORGANIZER;CN="Elke Torfs driftwood & jewelry":MAILTO:Info@elketorfs.be
END:VEVENT
BEGIN:VEVENT
DTSTART;TZID=Europe/Brussels:20240120T100000
DTEND;TZID=Europe/Brussels:20240120T200000
DTSTAMP:20260419T062255
CREATED:20240110T162501Z
LAST-MODIFIED:20240110T162509Z
UID:10000058-1705744800-1705780800@www.elketorfs.be
SUMMARY:Solden tot -70% !!!!
DESCRIPTION:winter solden elke torfs juwelen 20 en 21 januari 2024\n\n\n\nNa bijna twee jaar van onvergetelijke momenten op verschillende evenementen\, is het tijd om een deel van onze magische schatten uit te dunnen om plaats te maken voor de nieuwe zomercollectie. \n\n\n\nOntdek verschillende juwelen & accessoires collecties in hout\, zilver\, been brons\, verguld zilver\, enz….. waarvan de laatste stuks aan maar liefst 70% korting de deur uit mogen. \n\n\n\nMaar dat is niet alles! Bezoekers kunnen ook genieten van een exclusieve korting van 20% op onze nieuwste collecties. \n\n\n\nDat is nog steeds niet alles!Als extra verrassing krijgt elke bezoeker een klein energetisch geschenk\, terwijl thee en koekjes je innerlijke kracht geven. \n\n\n\nWanneer:zaterdag 20 januari 10 – 20 uurZondag 21 januari 10 – 20 uur \n\n\n\nWaar:Onze betoverende plek is te vinden via Waze\, door “Elke Torfs juwelen” in Herselt in te tikken. Volg de bosweg tot op het einde en sla dan linksaf. We hebben ook wegwijzers geplaatst op de knooppunten zodat je ons bosplekje gemakkelijk kunt vinden. \n\n\n\nVorstheide 22 L 2230 Herselt0479/847825 \n\n\n\n!!! Let op enkel de waze gps app geeft de weg naar ons 100% juist !!! dus kijk even via deze link voor de juiste route als u voor het eerst ons bezoekt. \n\n\n\n \n\n\n\nWij accepteren cash\, bankcontact en mobiel betalen… dus als je iets leuks ziet\, niets kan je tegenhouden!Liefs Elke & Kor
URL:https://www.elketorfs.be/event/solden-tot-70/2024-01-20/
LOCATION:Atelier Elke Torfs driftwood & jewelry\, Vorstheide 22 L\, Herselt\, antwerpen\, 2230\, België
CATEGORIES:open atelier
ATTACH;FMTTYPE=image/jpeg:https://www.elketorfs.be/wp-content/uploads/2024/01/winter-solden-elke-torfs-juwelen-20-en-21-januari-2024.jpg
ORGANIZER;CN="Elke Torfs driftwood & jewelry":MAILTO:Info@elketorfs.be
END:VEVENT
BEGIN:VEVENT
DTSTART;TZID=Europe/Brussels:20230429T140000
DTEND;TZID=Europe/Brussels:20230429T200000
DTSTAMP:20260419T062255
CREATED:20230420T153117Z
LAST-MODIFIED:20230424T102512Z
UID:10000010-1682776800-1682798400@www.elketorfs.be
SUMMARY:Open atelier
DESCRIPTION:Kom onze gehele collectie bekijken met een hapje & een tapje bij ons thuis in Herselt.Bezoek ons idyllisch boshuisje tussen de bomen en aan een grote vijver. Gezelligheid gegarandeerd Wees welkom
URL:https://www.elketorfs.be/event/open-atelier/2023-04-29/
LOCATION:Atelier Elke Torfs driftwood & jewelry\, Vorstheide 22 L\, Herselt\, antwerpen\, 2230\, België
ATTACH;FMTTYPE=image/jpeg:https://www.elketorfs.be/wp-content/uploads/2023/04/elketorfs-open-atelier-dagen.jpg
ORGANIZER;CN="Elke Torfs driftwood & jewelry":MAILTO:Info@elketorfs.be
END:VEVENT
BEGIN:VEVENT
DTSTART;TZID=Europe/Brussels:20230428T140000
DTEND;TZID=Europe/Brussels:20230428T200000
DTSTAMP:20260419T062255
CREATED:20230420T153117Z
LAST-MODIFIED:20230424T102512Z
UID:10000009-1682690400-1682712000@www.elketorfs.be
SUMMARY:Open atelier
DESCRIPTION:Kom onze gehele collectie bekijken met een hapje & een tapje bij ons thuis in Herselt.Bezoek ons idyllisch boshuisje tussen de bomen en aan een grote vijver. Gezelligheid gegarandeerd Wees welkom
URL:https://www.elketorfs.be/event/open-atelier/2023-04-28/
LOCATION:Atelier Elke Torfs driftwood & jewelry\, Vorstheide 22 L\, Herselt\, antwerpen\, 2230\, België
ATTACH;FMTTYPE=image/jpeg:https://www.elketorfs.be/wp-content/uploads/2023/04/elketorfs-open-atelier-dagen.jpg
ORGANIZER;CN="Elke Torfs driftwood & jewelry":MAILTO:Info@elketorfs.be
END:VEVENT
BEGIN:VEVENT
DTSTART;TZID=Europe/Brussels:20230427T140000
DTEND;TZID=Europe/Brussels:20230427T200000
DTSTAMP:20260419T062255
CREATED:20230420T153117Z
LAST-MODIFIED:20230424T102512Z
UID:10000008-1682604000-1682625600@www.elketorfs.be
SUMMARY:Open atelier
DESCRIPTION:Kom onze gehele collectie bekijken met een hapje & een tapje bij ons thuis in Herselt.Bezoek ons idyllisch boshuisje tussen de bomen en aan een grote vijver. Gezelligheid gegarandeerd Wees welkom
URL:https://www.elketorfs.be/event/open-atelier/2023-04-27/
LOCATION:Atelier Elke Torfs driftwood & jewelry\, Vorstheide 22 L\, Herselt\, antwerpen\, 2230\, België
ATTACH;FMTTYPE=image/jpeg:https://www.elketorfs.be/wp-content/uploads/2023/04/elketorfs-open-atelier-dagen.jpg
ORGANIZER;CN="Elke Torfs driftwood & jewelry":MAILTO:Info@elketorfs.be
END:VEVENT
BEGIN:VEVENT
DTSTART;TZID=Europe/Brussels:20230422T140000
DTEND;TZID=Europe/Brussels:20230422T200000
DTSTAMP:20260419T062255
CREATED:20230424T135837Z
LAST-MODIFIED:20230424T135837Z
UID:10000031-1682172000-1682193600@www.elketorfs.be
SUMMARY:Open atelier
DESCRIPTION:Kom onze gehele collectie bekijken met een hapje & een tapje bij ons thuis in Herselt.Bezoek ons idyllisch boshuisje tussen de bomen en aan een grote vijver. Gezelligheid gegarandeerd Wees welkom
URL:https://www.elketorfs.be/event/open-atelier-4/
LOCATION:Atelier Elke Torfs driftwood & jewelry\, Vorstheide 22 L\, Herselt\, antwerpen\, 2230\, België
ATTACH;FMTTYPE=image/jpeg:https://www.elketorfs.be/wp-content/uploads/2023/04/IMG_20230420_154359760-1.jpg
ORGANIZER;CN="Elke Torfs driftwood & jewelry":MAILTO:Info@elketorfs.be
END:VEVENT
BEGIN:VEVENT
DTSTART;TZID=Europe/Brussels:20230422T140000
DTEND;TZID=Europe/Brussels:20230422T200000
DTSTAMP:20260419T062255
CREATED:20230424T135259Z
LAST-MODIFIED:20230424T135259Z
UID:10000029-1682172000-1682193600@www.elketorfs.be
SUMMARY:Open atelier
DESCRIPTION:Kom onze gehele collectie bekijken met een hapje & een tapje bij ons thuis in Herselt.Bezoek ons idyllisch boshuisje tussen de bomen en aan een grote vijver. Gezelligheid gegarandeerd Wees welkom
URL:https://www.elketorfs.be/event/open-atelier-8/
LOCATION:Atelier Elke Torfs driftwood & jewelry\, Vorstheide 22 L\, Herselt\, antwerpen\, 2230\, België
ATTACH;FMTTYPE=image/jpeg:https://www.elketorfs.be/wp-content/uploads/2023/04/elketorfs-open-atelier-dagen.jpg
ORGANIZER;CN="Elke Torfs driftwood & jewelry":MAILTO:Info@elketorfs.be
END:VEVENT
BEGIN:VEVENT
DTSTART;TZID=Europe/Brussels:20230422T140000
DTEND;TZID=Europe/Brussels:20230422T200000
DTSTAMP:20260419T062255
CREATED:20230420T153117Z
LAST-MODIFIED:20230424T102512Z
UID:10000007-1682172000-1682193600@www.elketorfs.be
SUMMARY:Open atelier
DESCRIPTION:Kom onze gehele collectie bekijken met een hapje & een tapje bij ons thuis in Herselt.Bezoek ons idyllisch boshuisje tussen de bomen en aan een grote vijver. Gezelligheid gegarandeerd Wees welkom
URL:https://www.elketorfs.be/event/open-atelier/2023-04-22/
LOCATION:Atelier Elke Torfs driftwood & jewelry\, Vorstheide 22 L\, Herselt\, antwerpen\, 2230\, België
ATTACH;FMTTYPE=image/jpeg:https://www.elketorfs.be/wp-content/uploads/2023/04/elketorfs-open-atelier-dagen.jpg
ORGANIZER;CN="Elke Torfs driftwood & jewelry":MAILTO:Info@elketorfs.be
END:VEVENT
END:VCALENDAR